BEGIN:VCALENDAR
VERSION:2.0
PRODID:-//eventon.com NONSGML v1.0//EN
CALSCALE:GREGORIAN
METHOD:PUBLISH
BEGIN:VEVENT
UID:69e8a78dd2266
DTSTAMP:20260422T104845Z
DTSTART:20230321T190000Z
DTEND:20230321T225000Z
LOCATION:Stadthalle Cham 93413 Cham\,  Deutschland
SUMMARY:Trio - Cham
DESCRIPTION:Trio - Cham\nhttps://wecker.de/events/trio-cham
URL:https://wecker.de/events/trio-cham
END:VEVENT
END:VCALENDAR