BEGIN:VCALENDAR
VERSION:2.0
PRODID:-//eventon.com NONSGML v1.0//EN
CALSCALE:GREGORIAN
METHOD:PUBLISH
BEGIN:VEVENT
UID:69e89193a842d
DTSTAMP:20260422T091459Z
DTSTART:20221001T181500Z
DTEND:20221001T215000Z
LOCATION:
SUMMARY:Petra Kelly - Der rätselhafte Tod einer Friedensikone
DESCRIPTION:Petra Kelly - Der rätselhafte Tod einer Friedensikone\nhttps:/
 /wecker.de/events/petra-kelly-der-ratselhafte-tod-einer-friedensikone
URL:https://wecker.de/events/petra-kelly-der-ratselhafte-tod-einer-friedensikone
END:VEVENT
END:VCALENDAR