BEGIN:VCALENDAR
VERSION:2.0
PRODID:-//eventon.com NONSGML v1.0//EN
CALSCALE:GREGORIAN
METHOD:PUBLISH
BEGIN:VEVENT
UID:69e8a7640f0c9
DTSTAMP:20260422T104804Z
DTSTART:20230302T183000Z
DTEND:20230302T225000Z
LOCATION:Schmidt Theater 20359 Hamburg\,  Deutschland
SUMMARY:"Es gibt kein Recht auf Gehorsam"
DESCRIPTION:"Es gibt kein Recht auf Gehorsam"\nhttps://wecker.de/events/es-
 gibt-kein-recht-auf-gehorsam
URL:https://wecker.de/events/es-gibt-kein-recht-auf-gehorsam
END:VEVENT
END:VCALENDAR