BEGIN:VCALENDAR
VERSION:2.0
PRODID:-//eventon.com NONSGML v1.0//EN
CALSCALE:GREGORIAN
METHOD:PUBLISH
BEGIN:VEVENT
UID:69e8fd4b615eb
DTSTAMP:20260422T165435Z
DTSTART:20230609T180000Z
DTEND:20230609T215000Z
LOCATION:Burgarena Finkenstein 9582 Latschach\,  Österreich
SUMMARY:*VERSCHOBEN* Trio - Latschach
DESCRIPTION:*VERSCHOBEN* Trio - Latschach\nhttps://wecker.de/events/trio-la
 tschach
URL:https://wecker.de/events/trio-latschach
END:VEVENT
END:VCALENDAR