BEGIN:VCALENDAR
VERSION:2.0
PRODID:-//eventon.com NONSGML v1.0//EN
CALSCALE:GREGORIAN
METHOD:PUBLISH
BEGIN:VEVENT
UID:69e9dcb1412ed
DTSTAMP:20260423T084745Z
DTSTART:20241104T190000Z
DTEND:20241104T225000Z
LOCATION:Theater am Aegi 30159 Hannover\,  Deutschland
SUMMARY:Der Soundtrack meines Lebens - Hannover
DESCRIPTION:Der Soundtrack meines Lebens - Hannover\nhttps://wecker.de/even
 ts/der-soundtrack-meines-lebens-hannover
URL:https://wecker.de/events/der-soundtrack-meines-lebens-hannover
END:VEVENT
END:VCALENDAR