BEGIN:VCALENDAR
VERSION:2.0
PRODID:-//eventon.com NONSGML v1.0//EN
CALSCALE:GREGORIAN
METHOD:PUBLISH
BEGIN:VEVENT
UID:69e7363f9be29
DTSTAMP:20260421T083303Z
DTSTART:20240717T040500Z
DTEND:20240717T215900Z
LOCATION:
SUMMARY:Welt am Morgen
DESCRIPTION:Welt am Morgen\nhttps://wecker.de/events/welt-am-morgen
URL:https://wecker.de/events/welt-am-morgen
END:VEVENT
END:VCALENDAR