BEGIN:VCALENDAR
VERSION:2.0
PRODID:-//eventon.com NONSGML v1.0//EN
CALSCALE:GREGORIAN
METHOD:PUBLISH
BEGIN:VEVENT
UID:69e8a9cdec28c
DTSTAMP:20260422T105821Z
DTSTART:20250329T190000Z
DTEND:20250329T225900Z
LOCATION:Konzert- und Kongresshalle Hegel-Saal 96047 Bamberg\,  Deutschland
SUMMARY:Lieder meines Lebens - Tour 2025 - Bamberg
DESCRIPTION:Lieder meines Lebens - Tour 2025 - Bamberg\nhttps://wecker.de/e
 vents/lieder-meines-lebens-tour-2025-bamberg
URL:https://wecker.de/events/lieder-meines-lebens-tour-2025-bamberg
END:VEVENT
END:VCALENDAR