BEGIN:VCALENDAR
VERSION:2.0
PRODID:-//eventon.com NONSGML v1.0//EN
CALSCALE:GREGORIAN
METHOD:PUBLISH
BEGIN:VEVENT
UID:69e8a87e5b903
DTSTAMP:20260422T105246Z
DTSTART:20250920T113000Z
DTEND:20250920T215900Z
LOCATION:
SUMMARY:Kir Royal (4/6) - Adieu Claire
DESCRIPTION:Kir Royal (4/6) - Adieu Claire\nhttps://wecker.de/events/kir-ro
 yal-4-6-adieu-claire
URL:https://wecker.de/events/kir-royal-4-6-adieu-claire
END:VEVENT
END:VCALENDAR