BEGIN:VCALENDAR
VERSION:2.0
PRODID:-//eventon.com NONSGML v1.0//EN
CALSCALE:GREGORIAN
METHOD:PUBLISH
BEGIN:VEVENT
UID:69e78da27c7bc
DTSTAMP:20260421T144554Z
DTSTART:20250521T180000Z
DTEND:20250521T215900Z
LOCATION:Johanneskirche am Feuersee 70176 Stuttgart\,  Deutschland
SUMMARY:Friedenskonzert: „Friedensfähig statt Kriegstüchtig“ - Stuttgart
DESCRIPTION:Friedenskonzert: „Friedensfähig statt Kriegstüchtig“ - St
 uttgart\nhttps://wecker.de/events/friedenskonzert-friedensfaehig-statt-krie
 gstuechtig
URL:https://wecker.de/events/friedenskonzert-friedensfaehig-statt-kriegstuechtig
END:VEVENT
END:VCALENDAR